BEGIN:VCALENDAR
VERSION:2.0
PRODID: -//Q4 Inc.//EN
METHOD:PUBLISH
BEGIN:VTIMEZONE
TZID:America/New_York
X-LIC-LOCATION:America/New_York
BEGIN:DAYLIGHT
TZOFFSETFROM:-0500
TZOFFSETTO:-0400
TZNAME:EDT
DTSTART:19700308T020000
RRULE:FREQ=YEARLY;BYMONTH=3;BYDAY=2SU
END:DAYLIGHT
BEGIN:STANDARD
TZOFFSETFROM:-0400
TZOFFSETTO:-0500
TZNAME:EST
DTSTART:19701101T020000
RRULE:FREQ=YEARLY;BYMONTH=11;BYDAY=1SU
END:STANDARD
END:VTIMEZONE
BEGIN:VEVENT
ORGANIZER:MAILTO:no-reply@q4inc.com
DTSTART;TZID="America/New_York":20250224T133000
DTEND;TZID="America/New_York":20250224T140000
LOCATION:
UID:f16b6944-84e3-4676-bdf8-ca57cb44b03b
DTSTAMP:20260423T175646
SUMMARY:BMO Capital Markets Global Metals, Mining & Critical Minerals Conference
DESCRIPTION: View More Information: https://www.barrick.com/English/investors/presentations/event-details/2025/BMO-Capital-Markets-Global-Metals-Mining--Critical-Minerals-Conference/default.aspx
URL;VALUE=URI:https://www.barrick.com/English/investors/presentations/event-details/2025/BMO-Capital-Markets-Global-Metals-Mining--Critical-Minerals-Conference/default.aspx
PRIORITY:5
CLASS:PUBLIC
END:VEVENT
END:VCALENDAR
