BEGIN:VCALENDAR
VERSION:2.0
PRODID: -//Q4 Inc.//EN
METHOD:PUBLISH
BEGIN:VTIMEZONE
TZID:America/New_York
X-LIC-LOCATION:America/New_York
BEGIN:DAYLIGHT
TZOFFSETFROM:-0500
TZOFFSETTO:-0400
TZNAME:EDT
DTSTART:19700308T020000
RRULE:FREQ=YEARLY;BYMONTH=3;BYDAY=2SU
END:DAYLIGHT
BEGIN:STANDARD
TZOFFSETFROM:-0400
TZOFFSETTO:-0500
TZNAME:EST
DTSTART:19701101T020000
RRULE:FREQ=YEARLY;BYMONTH=11;BYDAY=1SU
END:STANDARD
END:VTIMEZONE
BEGIN:VEVENT
ORGANIZER:MAILTO:no-reply@q4inc.com
DTSTART;TZID="America/New_York":20260511T110000
DTEND;TZID="America/New_York":20260511T113000
LOCATION:
UID:662384bd-c168-42b7-a5f5-7bfda09d3a30
DTSTAMP:20260421T123322
SUMMARY:Q1 2026 Results
DESCRIPTION: View More Information: https://www.barrick.com/English/investors/presentations/event-details/2026/q1-2026-results/default.aspx
URL;VALUE=URI:https://www.barrick.com/English/investors/presentations/event-details/2026/q1-2026-results/default.aspx
PRIORITY:5
CLASS:PUBLIC
END:VEVENT
END:VCALENDAR
